BEGIN:VCALENDAR
VERSION:2.0
PRODID:-//wp-events-plugin.com//7.2.2.1//EN
TZID:Europe/Paris
X-WR-TIMEZONE:Europe/Paris
BEGIN:VEVENT
UID:13@aikido-idf-ffaaa.com
DTSTART;TZID=Europe/Paris:20250316T100000
DTEND;TZID=Europe/Paris:20250316T163000
DTSTAMP:20250307T115156Z
URL:https://www.aikido-idf-ffaaa.com/events/stage-de-ligue-laurent-boudet-
 16-mars-2025/
SUMMARY:Stage de Ligue - Laurent Boudet -16 mars 2025
DESCRIPTION:QR CODE POUR INSCRIPTION EN LIGNE\n\n\n\n
ATTACH;FMTTYPE=image/jpeg:https://www.aikido-idf-ffaaa.com/wp-content/uplo
 ads/2025/03/Stage-IDF-Laurent-Boudet-Ligue-16-mars-2025-1.png
CATEGORIES:Stage Régional de Ligue île de France,Validant pour les
 passages de grades
LOCATION:Gymnase du Docteur Blot\, 21 rue Pierre Brossolette\, Courbevoie\,
  92400\, France
GEO:48.903574;2.253227
X-APPLE-STRUCTURED-LOCATION;VALUE=URI;X-ADDRESS=21 rue Pierre Brossolette\,
  Courbevoie\, 92400\, France;X-APPLE-RADIUS=100;X-TITLE=Gymnase du Docteur
  Blot:geo:48.903574,2.253227
END:VEVENT
BEGIN:VTIMEZONE
TZID:Europe/Paris
X-LIC-LOCATION:Europe/Paris
BEGIN:STANDARD
DTSTART:20241027T020000
TZOFFSETFROM:+0200
TZOFFSETTO:+0100
TZNAME:CET
END:STANDARD
END:VTIMEZONE
END:VCALENDAR